BEGIN:VCALENDAR
VERSION:2.0
PRODID:-//Neus Casanova - ECPv6.0.6.1//NONSGML v1.0//EN
CALSCALE:GREGORIAN
METHOD:PUBLISH
X-ORIGINAL-URL:http://neuscasanova.com
X-WR-CALDESC:Eventos para Neus Casanova
REFRESH-INTERVAL;VALUE=DURATION:PT1H
X-Robots-Tag:noindex
X-PUBLISHED-TTL:PT1H
BEGIN:VTIMEZONE
TZID:UTC
BEGIN:STANDARD
TZOFFSETFROM:+0000
TZOFFSETTO:+0000
TZNAME:UTC
DTSTART:20190101T000000
END:STANDARD
END:VTIMEZONE
BEGIN:VEVENT
DTSTART;TZID=UTC:20190119T100000
DTEND;TZID=UTC:20190119T100000
DTSTAMP:20260424T122753
CREATED:20170304T213029Z
LAST-MODIFIED:20181211T155609Z
UID:18722-1547892000-1547892000@neuscasanova.com
SUMMARY:Meditación con el Gurumantra Wahe Guru
DESCRIPTION:Meditación con el Gurumantra Wahe Guru // \nVen a disfrutar de la experiencia de hacer Japa (repetir) durante 62 minutos el mantra Wahe Gurú\, para obtener los beneficios de aquietar la mente a través de la vibración del mantra.
URL:http://neuscasanova.com/event/meditacioncongurumantra/
LOCATION:Calle Àngel Guimerà 67-69\, Sant Vicenç dels Horts\, Calle Àngel Guimerà 67-69\, Sant Vicenç dels Horts\, Barcelona\, 08620\, España
CATEGORIES:Curso
ATTACH;FMTTYPE=image/jpeg:http://neuscasanova.com/wp-content/uploads/2017/11/sin-título-1-2.jpg
ORGANIZER;CN="Neus%20Casanova":MAILTO:info@neuscasanova.com
END:VEVENT
END:VCALENDAR