BEGIN:VCALENDAR
VERSION:2.0
PRODID:-//Neus Casanova - ECPv6.0.6.1//NONSGML v1.0//EN
CALSCALE:GREGORIAN
METHOD:PUBLISH
X-WR-CALNAME:Neus Casanova
X-ORIGINAL-URL:http://neuscasanova.com
X-WR-CALDESC:Eventos para Neus Casanova
REFRESH-INTERVAL;VALUE=DURATION:PT1H
X-Robots-Tag:noindex
X-PUBLISHED-TTL:PT1H
BEGIN:VTIMEZONE
TZID:UTC
BEGIN:STANDARD
TZOFFSETFROM:+0000
TZOFFSETTO:+0000
TZNAME:UTC
DTSTART:20210101T000000
END:STANDARD
END:VTIMEZONE
BEGIN:VEVENT
DTSTART;TZID=UTC:20210123T100000
DTEND;TZID=UTC:20210123T200000
DTSTAMP:20260422T224057
CREATED:20201020T152022Z
LAST-MODIFIED:20201020T152022Z
UID:19630-1611396000-1611432000@neuscasanova.com
SUMMARY:Segundo nivel de Reiki
DESCRIPTION:Aprende a canalizar la energía del Universo a través de tus manos. Desbloqueando tu energía vital\, y activando tu capacidad natural de autosanación. Para tu crecimiento personal y tu desarrollo espiritual.
URL:http://neuscasanova.com/event/segundo-nivel-reiki-2/
LOCATION:Calle Àngel Guimerà 67-69\, Sant Vicenç dels Horts\, Calle Àngel Guimerà 67-69\, Sant Vicenç dels Horts\, Barcelona\, 08620\, España
CATEGORIES:Curso,Reiki
ATTACH;FMTTYPE=image/jpeg:http://neuscasanova.com/wp-content/uploads/2017/03/Foto-curs-segon-nivell-de-reiki.jpg
ORGANIZER;CN="Neus%20Casanova":MAILTO:info@neuscasanova.com
END:VEVENT
END:VCALENDAR