BEGIN:VCALENDAR
VERSION:2.0
PRODID:-//Neus Casanova - ECPv6.0.6.1//NONSGML v1.0//EN
CALSCALE:GREGORIAN
METHOD:PUBLISH
X-ORIGINAL-URL:http://neuscasanova.com
X-WR-CALDESC:Eventos para Neus Casanova
REFRESH-INTERVAL;VALUE=DURATION:PT1H
X-Robots-Tag:noindex
X-PUBLISHED-TTL:PT1H
BEGIN:VTIMEZONE
TZID:UTC
BEGIN:STANDARD
TZOFFSETFROM:+0000
TZOFFSETTO:+0000
TZNAME:UTC
DTSTART:20170101T000000
END:STANDARD
END:VTIMEZONE
BEGIN:VEVENT
DTSTART;TZID=UTC:20170211T100000
DTEND;TZID=UTC:20170211T200000
DTSTAMP:20260425T235225
CREATED:20161214T134944Z
LAST-MODIFIED:20161214T134944Z
UID:18630-1486807200-1486843200@neuscasanova.com
SUMMARY:Primer nivel de Reiki
DESCRIPTION:Aprende a canalizar la energía del Universo a través de tus manos. Desbloqueando tu energía vital\, y activando tu capacidad natural de autosanación. Para tu crecimiento personal y tu desarrollo espiritual.
URL:http://neuscasanova.com/event/primer-nivel-de-reiki-3/
LOCATION:Calle Àngel Guimerà 67-69\, Sant Vicenç dels Horts\, Calle Àngel Guimerà 67-69\, Sant Vicenç dels Horts\, Barcelona\, 08620\, España
CATEGORIES:Curso,Reiki
ATTACH;FMTTYPE=image/jpeg:http://neuscasanova.com/wp-content/uploads/2015/09/Cursos-de-reiki.jpg
ORGANIZER;CN="Neus%20Casanova":MAILTO:info@neuscasanova.com
END:VEVENT
END:VCALENDAR