BEGIN:VCALENDAR
VERSION:2.0
PRODID:-//Neus Casanova - ECPv6.0.6.1//NONSGML v1.0//EN
CALSCALE:GREGORIAN
METHOD:PUBLISH
X-ORIGINAL-URL:http://neuscasanova.com
X-WR-CALDESC:Eventos para Neus Casanova
REFRESH-INTERVAL;VALUE=DURATION:PT1H
X-Robots-Tag:noindex
X-PUBLISHED-TTL:PT1H
BEGIN:VTIMEZONE
TZID:UTC
BEGIN:STANDARD
TZOFFSETFROM:+0000
TZOFFSETTO:+0000
TZNAME:UTC
DTSTART:20180101T000000
END:STANDARD
END:VTIMEZONE
BEGIN:VEVENT
DTSTART;TZID=UTC:20181222T100000
DTEND;TZID=UTC:20181222T130000
DTSTAMP:20260424T153827
CREATED:20170830T023446Z
LAST-MODIFIED:20180829T234238Z
UID:18884-1545472800-1545483600@neuscasanova.com
SUMMARY:Taller Vivencial
DESCRIPTION:Disfruta de vivir la experiencia de limpiar tu campo áurico y conectar con tu Divina Esencia. \nTrabajaremos a nivel grupal a través de la resonancia holística del Gong\, del poder liberador de mantras\, de relajaciones\, de la limpieza de tu campo vibratorio a través de la meditación\, y conectaremos con el Akasha para consultar tu libro de vida y poder sanar tu karma. Para poder disfrutar de una experiencia única.
URL:http://neuscasanova.com/event/taller-vivencial-3-2/
LOCATION:Calle Àngel Guimerà 67-69\, Sant Vicenç dels Horts\, Calle Àngel Guimerà 67-69\, Sant Vicenç dels Horts\, Barcelona\, 08620\, España
CATEGORIES:Curso
ATTACH;FMTTYPE=image/jpeg:http://neuscasanova.com/wp-content/uploads/2017/03/Foto2-Taller-vivencial.jpg
ORGANIZER;CN="Neus%20Casanova":MAILTO:info@neuscasanova.com
END:VEVENT
END:VCALENDAR