BEGIN:VCALENDAR
VERSION:2.0
PRODID:-//Neus Casanova - ECPv6.0.6.1//NONSGML v1.0//EN
CALSCALE:GREGORIAN
METHOD:PUBLISH
X-WR-CALNAME:Neus Casanova
X-ORIGINAL-URL:http://neuscasanova.com
X-WR-CALDESC:Eventos para Neus Casanova
REFRESH-INTERVAL;VALUE=DURATION:PT1H
X-Robots-Tag:noindex
X-PUBLISHED-TTL:PT1H
BEGIN:VTIMEZONE
TZID:UTC
BEGIN:STANDARD
TZOFFSETFROM:+0000
TZOFFSETTO:+0000
TZNAME:UTC
DTSTART:20190101T000000
END:STANDARD
END:VTIMEZONE
BEGIN:VEVENT
DTSTART;TZID=UTC:20190427T100000
DTEND;TZID=UTC:20190427T130000
DTSTAMP:20260424T091743
CREATED:20180304T231250Z
LAST-MODIFIED:20181211T161105Z
UID:19115-1556359200-1556370000@neuscasanova.com
SUMMARY:Taller  “Sánate a ti mismo”
DESCRIPTION:Es un taller dedicado a experimentar la auto-sanación de tu cuerpo\, tu mente\, tus emociones y tu alma. Trabajaremos con distintas herramientas\, tales como el Sat Nam Rasayam\, meditaciones y técnicas regresivas\, sanando aquellos traumas o heridas que aún siguen abiertos y te afectan en tu día a día. \nLa duración del taller es de tres horas.
URL:http://neuscasanova.com/event/sanateatimismo-2/
LOCATION:Calle Àngel Guimerà 67-69\, Sant Vicenç dels Horts\, Calle Àngel Guimerà 67-69\, Sant Vicenç dels Horts\, Barcelona\, 08620\, España
CATEGORIES:Curso
ATTACH;FMTTYPE=image/jpeg:http://neuscasanova.com/wp-content/uploads/2018/03/taller_sientete-1.jpg
ORGANIZER;CN="Neus%20Casanova":MAILTO:info@neuscasanova.com
END:VEVENT
END:VCALENDAR