BEGIN:VCALENDAR
VERSION:2.0
PRODID:-//Neus Casanova - ECPv6.0.6.1//NONSGML v1.0//EN
CALSCALE:GREGORIAN
METHOD:PUBLISH
X-WR-CALNAME:Neus Casanova
X-ORIGINAL-URL:http://neuscasanova.com
X-WR-CALDESC:Eventos para Neus Casanova
REFRESH-INTERVAL;VALUE=DURATION:PT1H
X-Robots-Tag:noindex
X-PUBLISHED-TTL:PT1H
BEGIN:VTIMEZONE
TZID:UTC
BEGIN:STANDARD
TZOFFSETFROM:+0000
TZOFFSETTO:+0000
TZNAME:UTC
DTSTART:20200101T000000
END:STANDARD
END:VTIMEZONE
BEGIN:VEVENT
DTSTART;TZID=UTC:20201024T100000
DTEND;TZID=UTC:20201024T143000
DTSTAMP:20260424T234517
CREATED:20200719T145039Z
LAST-MODIFIED:20200719T153622Z
UID:19593-1603533600-1603549800@neuscasanova.com
SUMMARY:Taller de Constelaciones Familiares y Sistémicas
DESCRIPTION:Es el trabajo terapéutico a través de las Constelaciones Familiares y Sistémicas en grupo. Trabaja tus vínculos de amor y lealtad con tu familia y tu entorno para poner orden en tu vida y ser libre de cargas\, para que puedas vibrar con los Órdenes del amor.
URL:http://neuscasanova.com/event/taller-de-constelaciones-familiares-y-sistemicas-2/
LOCATION:Calle Àngel Guimerà 67-69\, Sant Vicenç dels Horts\, Calle Àngel Guimerà 67-69\, Sant Vicenç dels Horts\, Barcelona\, 08620\, España
CATEGORIES:Taller
ATTACH;FMTTYPE=image/jpeg:http://neuscasanova.com/wp-content/uploads/2020/07/Foto-agenda-Taller-Constel.lacions-Familiars-i-Sistèmiques-scaled.jpg
ORGANIZER;CN="Neus%20Casanova":MAILTO:info@neuscasanova.com
END:VEVENT
END:VCALENDAR